BEGIN:VCALENDAR
VERSION:2.0
PRODID:-//wp-events-plugin.com//7.2.3//EN
TZID:Europe/Paris
X-WR-TIMEZONE:Europe/Paris
BEGIN:VEVENT
UID:664@rivesdelalaurence.fr
DTSTART;TZID=Europe/Paris:20260426T050000
DTEND;TZID=Europe/Paris:20260426T050000
DTSTAMP:20260422T104832Z
URL:https://www.rivesdelalaurence.fr/events/vide-grenier-du-football-club-
 loubesien-2/
SUMMARY:Vide grenier du Football CLub Loubésien
DESCRIPTION:Le Football Club Loubésien organise son grand vide-grenier !
  Venez chiner\, vendre et passer un bon moment en famille ou entre amis.\
 n\n➡Tarif exposant : 3 euros le mètre linéaire.\n\n🥪🥤 Buvette et
  restauration sur place\n\n📅 Dimanche 26 avril\, Horaire exposant à pa
 rtir de 5h du matin.\n\nAu Complexe Sportif\, Impasse Max Linder\n\nOrgani
 sation : Football Club Loubesien : https://www.facebook.com/profile.php?i
 d=61579986832611\n\nnfos &amp\; réservations : 0769008522\n\nRéservation
  obligatoire avant l’exposition.
ATTACH;FMTTYPE=image/jpeg:https://www.rivesdelalaurence.fr/wp-content/uplo
 ads/2026/04/9ab588fe59d5cd720f7b1d1ce15d8949_vide-greni-e1776854885230.jpg
CATEGORIES:Vide-greniers
LOCATION:Complexe sportif\, Impasse Max Linder\, Saint-Loubès\, France
GEO:44.913148;-0.42948
X-APPLE-STRUCTURED-LOCATION;VALUE=URI;X-ADDRESS=Impasse Max Linder\, Saint-
 Loubès\, France;X-APPLE-RADIUS=100;X-TITLE=Complexe sportif:geo:44.913148
 ,-0.42948
END:VEVENT
BEGIN:VTIMEZONE
TZID:Europe/Paris
X-LIC-LOCATION:Europe/Paris
BEGIN:DAYLIGHT
DTSTART:20260329T030000
TZOFFSETFROM:+0100
TZOFFSETTO:+0200
TZNAME:CEST
END:DAYLIGHT
END:VTIMEZONE
END:VCALENDAR