BEGIN:VCALENDAR
VERSION:2.0
PRODID:-//wp-events-plugin.com//7.2.3//EN
TZID:Europe/Paris
X-WR-TIMEZONE:Europe/Paris
BEGIN:VEVENT
UID:421@rivesdelalaurence.fr
DTSTART;TZID=Europe/Paris:20250313T140000
DTEND;TZID=Europe/Paris:20250313T140000
DTSTAMP:20250210T153423Z
URL:https://www.rivesdelalaurence.fr/events/tricot-the-2/
SUMMARY:tricot-thé !
DESCRIPTION:\n\n\nTOUTES LES DATES\n\n\n\nLe jeu. 13 févr.\nLe jeu. 13 mar
 s\nLe jeu. 20 mars\nLe jeu. 27 mars\n\n\n\n\nHORAIRES\n\n\n14h\n\n\n\n\nTA
 RIFS\n\n\ngratuit sur inscription\n\n\n\n\n\n\nTous les jeudis après-midi
  (en dehors des vacances scolaires)\, un petit groupe se réunit au Pôle 
 Culturel pour tricoter autour d’une tasse de thé.\nCe rendez-vous hebdo
 madaire organisé par le CCAS est gratuit et ouvert à tou·te·s.\nN’h
 ésitez plus à les rejoindre\,convivialité garantie.\n\n
ATTACH;FMTTYPE=image/jpeg:https://www.rivesdelalaurence.fr/wp-content/uplo
 ads/2025/02/yvrac-tricothe.jpeg
CATEGORIES:Animations,Solidarité
LOCATION:Pôle culturel Yvrac\, 7 avenue de Blanzac\, Yvrac\, 33370\, Franc
 e
GEO:44.880873;-0.462013
X-APPLE-STRUCTURED-LOCATION;VALUE=URI;X-ADDRESS=7 avenue de Blanzac\, Yvrac
 \, 33370\, France;X-APPLE-RADIUS=100;X-TITLE=Pôle culturel Yvrac:geo:44.8
 80873,-0.462013
END:VEVENT
BEGIN:VTIMEZONE
TZID:Europe/Paris
X-LIC-LOCATION:Europe/Paris
BEGIN:STANDARD
DTSTART:20241027T020000
TZOFFSETFROM:+0200
TZOFFSETTO:+0100
TZNAME:CET
END:STANDARD
END:VTIMEZONE
END:VCALENDAR