BEGIN:VCALENDAR
VERSION:2.0
PRODID:-//wp-events-plugin.com//7.2.3//EN
TZID:Europe/Paris
X-WR-TIMEZONE:Europe/Paris
BEGIN:VEVENT
UID:685@rivesdelalaurence.fr
DTSTART;TZID=Europe/Paris:20260507T143000
DTEND;TZID=Europe/Paris:20260507T183000
DTSTAMP:20260422T183208Z
URL:https://www.rivesdelalaurence.fr/events/the-dansant-a-montussan-2/
SUMMARY:Thé dansant à Montussan
DESCRIPTION:Le CCAS de Montussan vous invite à un moment de convivialité 
 et de partage à l’occasion du thé dansant de la commune.\n\nDate : Jeu
 di  07 mai 2026\nHoraire : 14h30 – 18h30\nLieu : Salle Carsoule\nEntr
 ée gratuite – sur réservation\nAnimé par l’orchestre "Jo Bernard"\n
 \nCet après-midi festif sera l’occasion pour les amateurs de danse et d
 e musique de se retrouver dans une ambiance chaleureuse et animée.\n\nRé
 servation obligatoire : merci d’envoyer un email à : logistiquemontussa
 n@gmail.com // Téléphone : 06.18.06.20.36\n\nNous vous attendons nombreu
 x pour partager ce moment unique !
ATTACH;FMTTYPE=image/jpeg:https://www.rivesdelalaurence.fr/wp-content/uplo
 ads/2025/02/montussan-the.jpeg
CATEGORIES:Thé dansant
LOCATION:Salle Carsoule\, 7\, route de la Rafette\, Montussan\, 33450\, Fra
 nce
X-APPLE-STRUCTURED-LOCATION;VALUE=URI;X-ADDRESS=7\, route de la Rafette\, M
 ontussan\, 33450\, France;X-APPLE-RADIUS=100;X-TITLE=Salle Carsoule:geo:0,
 0
END:VEVENT
BEGIN:VTIMEZONE
TZID:Europe/Paris
X-LIC-LOCATION:Europe/Paris
BEGIN:DAYLIGHT
DTSTART:20260329T030000
TZOFFSETFROM:+0100
TZOFFSETTO:+0200
TZNAME:CEST
END:DAYLIGHT
END:VTIMEZONE
END:VCALENDAR