BEGIN:VCALENDAR
VERSION:2.0
PRODID:-//wp-events-plugin.com//7.2.3//EN
TZID:Europe/Paris
X-WR-TIMEZONE:Europe/Paris
BEGIN:VEVENT
UID:662@rivesdelalaurence.fr
DTSTART;TZID=Europe/Paris:20260425T100000
DTEND;TZID=Europe/Paris:20260425T120000
DTSTAMP:20260422T103234Z
URL:https://www.rivesdelalaurence.fr/events/redecouvrez-le-compostage-une-
 formation-pour-tous/
SUMMARY:(Re)découvrez le compostage : une formation pour tous
DESCRIPTION:🌱 Le compostage s’invite près de chez vous !\n\nUne forma
 tion gratuite a lieu le samedi 25 avril à Saint-Loubès. Ouverte à tous\
 , elle permet de découvrir ou d’approfondir les bons gestes du composta
 ge et d’apprendre à transformer ses déchets alimentaires et végétaux
  en compost de qualité.\n\n📍 Lieu :  Salle Le Pass'âge - 48\, rue C
 laude Castaing - Saint-Loubès\n📅 Date : Samedi 25 Mars\n⏰ Horaires :
  De 10h à 12h\n\nOuverte à tous les habitants\, cette formation abordera
  notamment :\n🌱 La mise en fonctionnement d’un composteur et son util
 isation\,\n💡 Des conseils pratiques pour réussir son compost\,\n👩
 ‍🌾 L’intérêt du compost au jardin et un tour d’horizon des prat
 iques de saison : paillage\, tonte différenciée\, haie sèche\, etc.\n
 \nℹ️ Inscription conseillée : https://www.semoctom.com/sinscrire-a-un
 e-…ation-compostage/ | 05 57 34 53 20 | appli Semoctom+
ATTACH;FMTTYPE=image/jpeg:https://www.rivesdelalaurence.fr/wp-content/uplo
 ads/2026/04/73411eb944729ca7583d167906769b1_redecouvre-e1776853833296.jpg
CATEGORIES:Conférence / Débat
LOCATION:Salle Le Pass'âge\, 48\, rue Claude Castaing\, Saint-Loubès\, 33
 450\, France
GEO:44.910593;-0.460803
X-APPLE-STRUCTURED-LOCATION;VALUE=URI;X-ADDRESS=48\, rue Claude Castaing\, 
 Saint-Loubès\, 33450\, France;X-APPLE-RADIUS=100;X-TITLE=Salle Le Pass'â
 ge:geo:44.910593,-0.460803
END:VEVENT
BEGIN:VTIMEZONE
TZID:Europe/Paris
X-LIC-LOCATION:Europe/Paris
BEGIN:DAYLIGHT
DTSTART:20260329T030000
TZOFFSETFROM:+0100
TZOFFSETTO:+0200
TZNAME:CEST
END:DAYLIGHT
END:VTIMEZONE
END:VCALENDAR