BEGIN:VCALENDAR
VERSION:2.0
PRODID:-//wp-events-plugin.com//7.2.3//EN
TZID:Europe/Paris
X-WR-TIMEZONE:Europe/Paris
BEGIN:VEVENT
UID:314@rivesdelalaurence.fr
DTSTART;TZID=Europe/Paris:20241208T090000
DTEND;TZID=Europe/Paris:20241208T120000
DTSTAMP:20241107T161200Z
URL:https://www.rivesdelalaurence.fr/events/rassemblement-de-vieilles-voit
 ures-motos-3/
SUMMARY:Rassemblement de vieilles voitures/motos
DESCRIPTION:Le CRAM (Club Rétro Auto-Moto) vous invite le Dimanche 8 déce
 mbre sur le parking du Stade Lamothe de 9h à 12h pour découvrir des vo
 itures et motos anciennes.\n\nC’est le rendez-vous incontournable de la 
 commune !\n\nComme chaque 2ème dimanche du mois\, les membres du CRAM vou
 s donnent rendez-vous sur le parking du stade Lamothe pour partager leur p
 assion commune pour les mécaniques anciennes !
ATTACH;FMTTYPE=image/jpeg:https://www.rivesdelalaurence.fr/wp-content/uplo
 ads/2024/11/st-sulpice-retro.jpeg
CATEGORIES:Exposition
LOCATION:Parking de la Maison Pour Tous - Maison pour Tous\, 5\, route de l
 a Mairie\, Beychac-et-Cailleau\, 33750\, France
GEO:44.870959;-0.3709
X-APPLE-STRUCTURED-LOCATION;VALUE=URI;X-ADDRESS=5\, route de la Mairie\, Be
 ychac-et-Cailleau\, 33750\, France;X-APPLE-RADIUS=100;X-TITLE=Parking de l
 a Maison Pour Tous - Maison pour Tous:geo:44.870959,-0.3709
END:VEVENT
BEGIN:VTIMEZONE
TZID:Europe/Paris
X-LIC-LOCATION:Europe/Paris
BEGIN:STANDARD
DTSTART:20241027T020000
TZOFFSETFROM:+0200
TZOFFSETTO:+0100
TZNAME:CET
END:STANDARD
END:VTIMEZONE
END:VCALENDAR