BEGIN:VCALENDAR
VERSION:2.0
PRODID:-//wp-events-plugin.com//7.2.3//EN
TZID:Europe/Paris
X-WR-TIMEZONE:Europe/Paris
BEGIN:VEVENT
UID:676@rivesdelalaurence.fr
DTSTART;TZID=Europe/Paris:20260426T080000
DTEND;TZID=Europe/Paris:20260426T080000
DTSTAMP:20260422T133547Z
URL:https://www.rivesdelalaurence.fr/events/randonnee-vtt-et-pedestre-la-l
 aurence/
SUMMARY:Randonnée VTT et pédestre La Laurence
DESCRIPTION:L'association VTT Free Rider Club organise sa randonnée VTT et
  pédestre le dimanche 26 avril.\n\nRendez-vous dès 7h30 pour les inscrip
 tions\, départs entre 8h et 9h au stade Lamothe.\n\nRenseignements au 06.
 72.70.36.26 ou au 06.26.69.96.13.
ATTACH;FMTTYPE=image/jpeg:https://www.rivesdelalaurence.fr/wp-content/uplo
 ads/2026/04/59e6ab04ba1ea0c2080536539dfe2ef3_randonnee--e1776864907520.jpg
CATEGORIES:Sport
LOCATION:Parking du stade Lamothe - Saint-Sulpice-et-Cameyrac\, Route du st
 ade\, Saint-Sulpice-et-Cameyrac\, 33450\, France
GEO:44.902851;-0.380501
X-APPLE-STRUCTURED-LOCATION;VALUE=URI;X-ADDRESS=Route du stade\, Saint-Sulp
 ice-et-Cameyrac\, 33450\, France;X-APPLE-RADIUS=100;X-TITLE=Parking du sta
 de Lamothe - Saint-Sulpice-et-Cameyrac:geo:44.902851,-0.380501
END:VEVENT
BEGIN:VTIMEZONE
TZID:Europe/Paris
X-LIC-LOCATION:Europe/Paris
BEGIN:DAYLIGHT
DTSTART:20260329T030000
TZOFFSETFROM:+0100
TZOFFSETTO:+0200
TZNAME:CEST
END:DAYLIGHT
END:VTIMEZONE
END:VCALENDAR