BEGIN:VCALENDAR
VERSION:2.0
PRODID:-//wp-events-plugin.com//7.2.3//EN
TZID:Europe/Paris
X-WR-TIMEZONE:Europe/Paris
BEGIN:VEVENT
UID:661@rivesdelalaurence.fr
DTSTART;TZID=Europe/Paris:20260425T133000
DTEND;TZID=Europe/Paris:20260425T133000
DTSTAMP:20260422T102648Z
URL:https://www.rivesdelalaurence.fr/events/randonnee-cyclotouriste-la-lou
 besienne-3/
SUMMARY:Randonnée cyclotouriste "LA LOUBESIENNE"
DESCRIPTION:Le Cyclo club de St-Loubès organisera sa traditionnelle randon
 née cyclotouriste « LA LOUBÉSIENNE »\n\n👉3 circuits de 50\, 75 et 1
 00 km\, seront proposés à toutes les personnes amoureuses de la petite r
 eine. Elles pourront découvrir les routes et les magnifiques paysages de 
 l’Entre Deux Mers\, mais ici\, pas question de classement ou de performa
 nce\, simplement le plaisir de venir faire du cyclotourisme en groupe\, en
  famille ou entre amis.\n\n📅 Samedi 25 avril 2026 à partir de 13h30\n
 📍 Rendez-vous devant le gymnase du collège Max Linder\, situé au 15 a
 venue de Cajus à St-Loubès..\n\n📝Inscriptions obligatoires à partir 
 de 12h00 pour toutes et tous les participants devant le gymnase du collèg
 e Max Linder.\n\n📌Tarif de l’inscription : 6 € pour les licenciés 
 UFOLEP et 9 € pour tous les autres\, gratuit pour les enfants de – de 
 12 ans.\n\n⚠Pour des raisons de sécurité\, le port d’un casque est o
 bligatoire.\n\n🥛🍎 Des ravitaillements seront assurés sur chaque cir
 cuit\, afin que chacun et chacune puisse reprendre quelques forces.\n\n
 👉Cette randonnée est ouverte aux licenciés UFOLEP ou autres fédérat
 ions\, ainsi qu’aux non licenciés. Les vélos à assistance électrique
  (VAE) sont autorisés.\n\n⚠(Pour les non-licenciés\, la présentation 
 du certificat médical de non-contre-indication à la pratique du sport n
 ’est pas obligatoire pour participer à cette randonnée de cyclotourism
 e\, mais fortement conseillée. Toutefois\, à titre préventif\, il est r
 ecommandé aux pratiquants non licenciés de passer un examen médical pr
 éalable à toute activité sportive)\n\n⚠Les participants mineurs devro
 nt être accompagnés d’un parent. Si ce n’est pas le cas\, ils devron
 t fournir une autorisation parentale et être accompagné d’un adulte.\n
 \n🥛🍎A l’arrivée\, une collation viendra récompenser tous les cyc
 lotouristes.\n\nℹ Vous pouvez retrouver les tracés des 3 circuits et to
 us les renseignements utiles\, sur le site internet du club : http://www.s
 aint-loubes-cycloclub.fr/\n\nℹ️ Coordonnées : ☎️06 18 27 12 92 / 
 📧courriel : cycloclub.st.loubes@orange.fr
ATTACH;FMTTYPE=image/jpeg:https://www.rivesdelalaurence.fr/wp-content/uplo
 ads/2026/04/2144638e1296e38e57bc7845de45ad8b_randonnee--e1776853548154.jpg
CATEGORIES:Animations,Sport
LOCATION:Gymnase du collège Max Linder\, 15 avenue Cajus\, Saint-Loubès\,
  33450\, France
GEO:44.909894;-0.428019
X-APPLE-STRUCTURED-LOCATION;VALUE=URI;X-ADDRESS=15 avenue Cajus\, Saint-Lou
 bès\, 33450\, France;X-APPLE-RADIUS=100;X-TITLE=Gymnase du collège Max L
 inder:geo:44.909894,-0.428019
END:VEVENT
BEGIN:VTIMEZONE
TZID:Europe/Paris
X-LIC-LOCATION:Europe/Paris
BEGIN:DAYLIGHT
DTSTART:20260329T030000
TZOFFSETFROM:+0100
TZOFFSETTO:+0200
TZNAME:CEST
END:DAYLIGHT
END:VTIMEZONE
END:VCALENDAR