BEGIN:VCALENDAR
VERSION:2.0
PRODID:-//wp-events-plugin.com//7.2.3//EN
TZID:Europe/Paris
X-WR-TIMEZONE:Europe/Paris
BEGIN:VEVENT
UID:65@rivesdelalaurence.fr
DTSTART;TZID=Europe/Paris:20240404T193000
DTEND;TZID=Europe/Paris:20240404T193000
DTSTAMP:20240301T190205Z
URL:https://www.rivesdelalaurence.fr/events/mediatheque-les-mots-pour-se-d
 ire-cloture-de-saison/
SUMMARY:Médiathèque : “Les mots pour se dire” - clôture de saison
DESCRIPTION:\n\nRencontre-partage avec Beata Umubyeyi Mairesse et Anne-Laur
 e Boyer\n\nInvitées à passer une saison à la médiathèque de Saint-Lou
 bès\, l'autrice Beata Umubyeyi Mairesse et l'artiste plasticienne Anne-La
 ure Boyer viennent à la rencontre du public et ouvrent la boîte à outil
 s de leur processus de création\, avec une série d’ateliers adressés 
 au grand public et aux scolaires pour explorer ensemble la construction et
  le récit de soi\, entre liberté de choix et assignation sociale.\n\nDer
 nière séance.\n\nLecture : Ejo\, nouvelles rwandaises du jours d'après\
 , de Beata Umubyeyi Mairesse. \n\nGratuit sur réservation.\n\nRenseigneme
 nts et réservations :\nmédiathèque Municipale de Saint Loubès\nTel : 0
 5.56.78.98.82\nCourriel : bibliotheque-municipale@saint-loubes.fr\n\n\n\n\
 n\n\nPlus d'informations sur https://www.facebook.com/loukili.saintloubes\
 n\n\n\n
ATTACH;FMTTYPE=image/jpeg:https://www.rivesdelalaurence.fr/wp-content/uplo
 ads/2024/03/mediatheque.jpg
CATEGORIES:Animations
END:VEVENT
BEGIN:VTIMEZONE
TZID:Europe/Paris
X-LIC-LOCATION:Europe/Paris
BEGIN:DAYLIGHT
DTSTART:20240331T030000
TZOFFSETFROM:+0100
TZOFFSETTO:+0200
TZNAME:CEST
END:DAYLIGHT
END:VTIMEZONE
END:VCALENDAR