BEGIN:VCALENDAR
VERSION:2.0
PRODID:-//wp-events-plugin.com//7.2.3//EN
TZID:Europe/Paris
X-WR-TIMEZONE:Europe/Paris
BEGIN:VEVENT
UID:35@rivesdelalaurence.fr
DTSTART;TZID=Europe/Paris:20231202T100000
DTEND;TZID=Europe/Paris:20231203T180000
DTSTAMP:20231202T095533Z
URL:https://www.rivesdelalaurence.fr/events/marche-de-noel-allemand-sainte
 -eulalie/
SUMMARY:Marché de Noël allemand - Sainte-Eulalie
DESCRIPTION:Le comité de jumelage de Sainte-Eulalie organise un grand marc
 hé de Noël “allemand” à la salle des fêtes\, le samedi 2 décembre
  de 10h00 à 20h00 et le dimanche 3 décembre de 10h00 à 18h00.\n\n“Sai
 nt-Nicolas” fera exceptionnellement son apparition le dimanche à 16h00.
 \n\nMaquillage pour les enfants.\n\nSpectacle gratuit à 15h00 le dimanche
 .
ATTACH;FMTTYPE=image/jpeg:https://www.rivesdelalaurence.fr/wp-content/uplo
 ads/2023/12/noel.jpg
LOCATION:Salle des Fêtes Sainte-Eulalie\, rue Cotelette (face à la mairie
 )\, Sainte-Eulalie\, 33560\, France
X-APPLE-STRUCTURED-LOCATION;VALUE=URI;X-ADDRESS=rue Cotelette (face à la m
 airie)\, Sainte-Eulalie\, 33560\, France;X-APPLE-RADIUS=100;X-TITLE=Salle 
 des Fêtes Sainte-Eulalie:geo:0,0
END:VEVENT
BEGIN:VTIMEZONE
TZID:Europe/Paris
X-LIC-LOCATION:Europe/Paris
BEGIN:STANDARD
DTSTART:20231029T020000
TZOFFSETFROM:+0200
TZOFFSETTO:+0100
TZNAME:CET
END:STANDARD
END:VTIMEZONE
END:VCALENDAR