BEGIN:VCALENDAR
VERSION:2.0
PRODID:-//wp-events-plugin.com//7.2.3//EN
TZID:Europe/Paris
X-WR-TIMEZONE:Europe/Paris
BEGIN:VEVENT
UID:666@rivesdelalaurence.fr
DTSTART;TZID=Europe/Paris:20260428T200000
DTEND;TZID=Europe/Paris:20260428T200000
DTSTAMP:20260422T110032Z
URL:https://www.rivesdelalaurence.fr/events/lexploration-inversee/
SUMMARY:L'exploration inversée
DESCRIPTION:Invités par leur ami photographe Marc Dozier\, deux Papous son
 t partis durant quatre mois à la découverte d’une étonnante tribu : l
 es "Français" !\n\n➡Des profondeurs du métro parisien aux sommets des 
 Alpes\, des coulisses du Moulin-Rouge au sommet de la tour Eiffel\, des ci
 metières normands de la Seconde Guerre mondiale à l’Assemblée nationa
 le\, ils ont voulu tout voir\, tout goûter\, tout expérimenter !\n\n👉
 À la façon des Lettres persanes de Montesquieu\, les deux explorateurs p
 apous posent un regard décapant\, plein d’humour\, de sagesse et de phi
 losophie sur notre monde\, ses règles\, ses excès et ses contradictions.
  Une délicieuse exploration inversée à la découverte de l’étrange 
 pays des hommes blancs.\n\n🤩Des scolaires auront le privilège d’assi
 ster à la projection du film « Gardiens de la forêt » en journée\, 
 et rencontrer\, eux aussi\, un homme hors du commun qui invite à porter u
 n nouveau regard sur la nature et les éléments.\n\n➕En présence du ch
 ef Papou Mundiya Kepanga\, et du réalisateur Marc Dozier.\n\n📆 Mardi 2
 8 avril à 20h00\n📍À la Coupole\nGRATUIT SANS RÉSERVATION\n\n🌐htt
 ps://www.lacoupole.org/mais-aussi/lexploration-inversee/
ATTACH;FMTTYPE=image/jpeg:https://www.rivesdelalaurence.fr/wp-content/uplo
 ads/2026/04/f4e22608f6b788b828f8dafa50b44699_lexplorati-e1776855611826.jpg
CATEGORIES:Cinéma,Conférence / Débat
LOCATION:La Coupole\, 36\, chemin de Nice\, Saint-Loubès\, 33450\, France
GEO:44.915404;-0.424568
X-APPLE-STRUCTURED-LOCATION;VALUE=URI;X-ADDRESS=36\, chemin de Nice\, Saint
 -Loubès\, 33450\, France;X-APPLE-RADIUS=100;X-TITLE=La Coupole:geo:44.915
 404,-0.424568
END:VEVENT
BEGIN:VTIMEZONE
TZID:Europe/Paris
X-LIC-LOCATION:Europe/Paris
BEGIN:DAYLIGHT
DTSTART:20260329T030000
TZOFFSETFROM:+0100
TZOFFSETTO:+0200
TZNAME:CEST
END:DAYLIGHT
END:VTIMEZONE
END:VCALENDAR