BEGIN:VCALENDAR
VERSION:2.0
PRODID:-//wp-events-plugin.com//7.2.3//EN
TZID:Europe/Paris
X-WR-TIMEZONE:Europe/Paris
BEGIN:VEVENT
UID:686@rivesdelalaurence.fr
DTSTART;TZID=Europe/Paris:20260424T140000
DTEND;TZID=Europe/Paris:20260424T220000
DTSTAMP:20260422T185558Z
URL:https://www.rivesdelalaurence.fr/events/forum-des-actions-durables-sai
 nt-eulalie/
SUMMARY:FORUM DES ACTIONS DURABLES Saint-Eulalie
DESCRIPTION:Le centre social Les jardins d'Akazoul vous invite à son Forum
  des Actions Durables.\nDe nombreux animations et activités vous attenden
 t toute la journée.\n\n
ATTACH;FMTTYPE=image/jpeg:https://www.rivesdelalaurence.fr/wp-content/uplo
 ads/2026/04/forum-des-actions-durables-e1776883224447.jpg
CATEGORIES:Animations,Conférence / Débat
LOCATION:Centre social et culturel Sainte-Eulalie\, 7 rue Laroque\, Sainte-
 Eulalie\, 33560\, France
GEO:44.903562;-0.483005
X-APPLE-STRUCTURED-LOCATION;VALUE=URI;X-ADDRESS=7 rue Laroque\, Sainte-Eula
 lie\, 33560\, France;X-APPLE-RADIUS=100;X-TITLE=Centre social et culturel 
 Sainte-Eulalie:geo:44.903562,-0.483005
END:VEVENT
BEGIN:VTIMEZONE
TZID:Europe/Paris
X-LIC-LOCATION:Europe/Paris
BEGIN:DAYLIGHT
DTSTART:20260329T030000
TZOFFSETFROM:+0100
TZOFFSETTO:+0200
TZNAME:CEST
END:DAYLIGHT
END:VTIMEZONE
END:VCALENDAR