BEGIN:VCALENDAR
VERSION:2.0
PRODID:-//wp-events-plugin.com//7.2.3//EN
TZID:Europe/Paris
X-WR-TIMEZONE:Europe/Paris
BEGIN:VEVENT
UID:663@rivesdelalaurence.fr
DTSTART;TZID=Europe/Paris:20260425T100000
DTEND;TZID=Europe/Paris:20260425T123000
DTSTAMP:20260422T103831Z
URL:https://www.rivesdelalaurence.fr/events/echange-de-plants-a-saint-loub
 es/
SUMMARY:Échange de plants à Saint-Loubès
DESCRIPTION:Le groupe jardin de Saint-Loubès en Transition vous propose de
  venir échanger vos plants de légumes\, de fleurs ou de plantes vertes\,
  le samedi 25 avril sur la place du marché. 👉 Ce sera également le m
 oment d'échanger sur nos pratiques de jardiniers amateurs.\n\nVenez nombr
 eux. !\n\n📅 Le samedi 25 avril de 10h à 12h30.\n\n📍 Place de l'Hôt
 el de Ville\n\n📧 saintloubesentransition@ntymail.com\n\n🌐Facebook : 
 https://www.facebook.com/saintloubestransition
ATTACH;FMTTYPE=image/jpeg:https://www.rivesdelalaurence.fr/wp-content/uplo
 ads/2026/04/c15fca747679a3b4550c8ad83d3cbb8f_echange-de-e1776854291221.jpg
CATEGORIES:Alimentation,Bien-être
LOCATION:Saint-Loubès\, Saint-Loubès\, Saint-Loubès\, 33450\, France
GEO:44.916735;-0.4271
X-APPLE-STRUCTURED-LOCATION;VALUE=URI;X-ADDRESS=Saint-Loubès\, Saint-Loub
 ès\, 33450\, France;X-APPLE-RADIUS=100;X-TITLE=Saint-Loubès:geo:44.91673
 5,-0.4271
END:VEVENT
BEGIN:VTIMEZONE
TZID:Europe/Paris
X-LIC-LOCATION:Europe/Paris
BEGIN:DAYLIGHT
DTSTART:20260329T030000
TZOFFSETFROM:+0100
TZOFFSETTO:+0200
TZNAME:CEST
END:DAYLIGHT
END:VTIMEZONE
END:VCALENDAR