BEGIN:VCALENDAR
VERSION:2.0
PRODID:-//wp-events-plugin.com//7.2.3//EN
TZID:Europe/Paris
X-WR-TIMEZONE:Europe/Paris
BEGIN:VEVENT
UID:660@rivesdelalaurence.fr
DTSTART;TZID=Europe/Paris:20260423T180000
DTEND;TZID=Europe/Paris:20260423T180000
DTSTAMP:20260421T085151Z
URL:https://www.rivesdelalaurence.fr/events/conseil-communautaire-7/
SUMMARY:Conseil communautaire
DESCRIPTION:\n\nConseil communautaire jeudi 23 avril 2026\n\n\n\n\nLe proch
 ain conseil communautaire aura lieu le :\nJeudi 23 avril 2026 à 18h00 \n\
 nAu siège de la communauté de communes – 30 bis chemin de Nice 33450 S
 AINT LOUBES\n\nA l’ordre du jour :\n\n 	Approbation du procès-verbal du
  10 avril 2026\n 	Approbation du règlement budgétaire financier\n 	Déba
 t d’orientation budgétaire\n 	Création d’une commission d’appel d
 ’offres: fixation des conditions de dépôt\n 	Création d’une commiss
 ion de délégation de service public : fixation des conditions de dépôt
 \n 	Création et composition de la Commission Locale d’Evaluation des Ch
 arges Transférées\n 	Désignation d’un référent déontologue élu lo
 cal\n 	Vote du taux de la CFE\, Taxe Foncière des propriétés Non Bâtie
 s\, Taxe d’Habitation additionnelle 2026\n 	Vote des Taux de la Taxe d
 ’Enlèvement des Ordures Ménagères 2026\n\n\n
ATTACH;FMTTYPE=image/jpeg:https://www.rivesdelalaurence.fr/wp-content/uplo
 ads/2026/04/illustration-reunion-2.jpg
CATEGORIES:Vie publique
LOCATION:Communauté de Communes\, 30 bis chemin de Nice \, Saint-Loubès\,
  33452\, France
X-APPLE-STRUCTURED-LOCATION;VALUE=URI;X-ADDRESS=30 bis chemin de Nice \, Sa
 int-Loubès\, 33452\, France;X-APPLE-RADIUS=100;X-TITLE=Communauté de Com
 munes:geo:0,0
END:VEVENT
BEGIN:VTIMEZONE
TZID:Europe/Paris
X-LIC-LOCATION:Europe/Paris
BEGIN:DAYLIGHT
DTSTART:20260329T030000
TZOFFSETFROM:+0100
TZOFFSETTO:+0200
TZNAME:CEST
END:DAYLIGHT
END:VTIMEZONE
END:VCALENDAR