BEGIN:VCALENDAR
VERSION:2.0
PRODID:-//wp-events-plugin.com//7.2.3//EN
TZID:Europe/Paris
X-WR-TIMEZONE:Europe/Paris
BEGIN:VEVENT
UID:683@rivesdelalaurence.fr
DTSTART;TZID=Europe/Paris:20260424T140000
DTEND;TZID=Europe/Paris:20260424T160000
DTSTAMP:20260422T140534Z
URL:https://www.rivesdelalaurence.fr/events/conference-sur-la-denutrition-
 chez-les-seniors/
SUMMARY:Conférence sur la dénutrition chez les seniors
DESCRIPTION:Le CCAS de Montussan vous propose une conférence animée par M
 me Roxane Papin\, diététicienne-nutritionniste.\n\n📅 Vendredi 24 avri
 l 2026\n🕑 14h à 16h\n📍 Salle Carsoule\n\nUne rencontre conviviale p
 our mieux comprendre l’alimentation adaptée aux besoins des seniors.\n\
 nGratuit – sur inscription uniquement\n📞 Inscriptions en mairie ou au
  05 56 72 41 00 - ccas.montussan@gmail.com
ATTACH;FMTTYPE=image/jpeg:https://www.rivesdelalaurence.fr/wp-content/uplo
 ads/2026/04/89d5c9f047eafffbc72d1690c3446292_conference.jpg
CATEGORIES:Conférence / Débat
LOCATION:Salle Carsoule\, 7\, route de la Rafette\, Montussan\, 33450\, Fra
 nce
X-APPLE-STRUCTURED-LOCATION;VALUE=URI;X-ADDRESS=7\, route de la Rafette\, M
 ontussan\, 33450\, France;X-APPLE-RADIUS=100;X-TITLE=Salle Carsoule:geo:0,
 0
END:VEVENT
BEGIN:VTIMEZONE
TZID:Europe/Paris
X-LIC-LOCATION:Europe/Paris
BEGIN:DAYLIGHT
DTSTART:20260329T030000
TZOFFSETFROM:+0100
TZOFFSETTO:+0200
TZNAME:CEST
END:DAYLIGHT
END:VTIMEZONE
END:VCALENDAR