BEGIN:VCALENDAR
VERSION:2.0
PRODID:-//wp-events-plugin.com//7.2.3//EN
TZID:Europe/Paris
X-WR-TIMEZONE:Europe/Paris
BEGIN:VEVENT
UID:680@rivesdelalaurence.fr
DTSTART;TZID=Europe/Paris:20260424T180000
DTEND;TZID=Europe/Paris:20260424T193000
DTSTAMP:20260422T135708Z
URL:https://www.rivesdelalaurence.fr/events/conference-nature-et-vivant-la
 -vie-amoureuse-des-oiseaux/
SUMMARY:Conférence nature et vivant : la vie amoureuse des oiseaux
DESCRIPTION:Ah\, le printemps… ses chants\, ses ailes frémissantes et se
 s romances perchées !\nVenez découvrir la vie amoureuse des oiseaux à t
 ravers le regard des sciences naturelles\, où les sérénades rivalisent 
 avec les plumes les plus élégantes. Entre stratégies de séduction\, pa
 rades nuptiales et choix de partenaires parfois très exigeants\, vous exp
 lorerez les secrets bien gardés de ces virtuoses du flirt aérien.\nUne c
 onférence accessible à tous\, à la fois instructive et pleine de surpri
 ses\, pour observer la nature sous un angle aussi scientifique que\nsavour
 eux.\nPar Magalie Costes\, le Jardin des Murmures\nPour adultes et enfants
  à partir de 12 ans\n\nGratuit\, inscription recommandée :\nmediatheque@
 yvrac.fr\n05 56 23 78 99
ATTACH;FMTTYPE=image/jpeg:https://www.rivesdelalaurence.fr/wp-content/uplo
 ads/2026/04/fbcb8f05a69af3d4ce41f1888df4b79f_conference-e1776866190395.jpg
CATEGORIES:Conférence / Débat
LOCATION:Médiathèque Yvrac\, 7\, avenue de Blanzac\, Yvrac\, 33370\, Fran
 ce
X-APPLE-STRUCTURED-LOCATION;VALUE=URI;X-ADDRESS=7\, avenue de Blanzac\, Yvr
 ac\, 33370\, France;X-APPLE-RADIUS=100;X-TITLE=Médiathèque Yvrac:geo:0,0
END:VEVENT
BEGIN:VTIMEZONE
TZID:Europe/Paris
X-LIC-LOCATION:Europe/Paris
BEGIN:DAYLIGHT
DTSTART:20260329T030000
TZOFFSETFROM:+0100
TZOFFSETTO:+0200
TZNAME:CEST
END:DAYLIGHT
END:VTIMEZONE
END:VCALENDAR