BEGIN:VCALENDAR
VERSION:2.0
PRODID:-//wp-events-plugin.com//7.2.3//EN
TZID:Europe/Paris
X-WR-TIMEZONE:Europe/Paris
BEGIN:VEVENT
UID:665@rivesdelalaurence.fr
DTSTART;TZID=Europe/Paris:20260426T160000
DTEND;TZID=Europe/Paris:20260426T160000
DTSTAMP:20260422T105656Z
URL:https://www.rivesdelalaurence.fr/events/cine-harmonies-a-saint-loubes/
SUMMARY:Ciné-Harmonies à Saint-Loubès
DESCRIPTION:Trois jeunes orchestres d'harmonie issus des écoles de musique
  des Hauts de Gironde\, de Lormont et de Saint-Loubès se réunissent auto
 ur d'un projet commun : une exploration des musiques de films.\n\n👉Lors
  de ce week-end\, tous les musiciens vont travailler ensemble et plonger d
 ans l’univers des grandes bandes originales\, comme Star wars\, Avengers
 \, Le roi lion et bien d’autres encore. Cette première édition marque 
 un véritable moment fort de partage entre les musiciens et une belle occa
 sion de célébrer ensemble la musique dans sa forme la plus cinématograp
 hique. Les orchestres seront dirigés par Aurélien Cescousse\, Emmanuel T
 hierry et Lise-Helena Toniutti.\n\n➡Venez découvrir et applaudir ces je
 unes talents lors d’un concert vibrant et émouvant.\n\nℹ️ Informati
 ons : https://www.lacoupole.org/programmation/cine-harmonies/\n\n📅 Dim
 anche 26 avril à 16h\, à la Coupole\n\n➡️ Événement proposé par 
 la Coupole\nMédia : https://www.facebook.com/lacoupole.saintloubes / ht
 tps://www.lacoupole.org\nContact : 05 56 68 67 06 ou culture@saint-loubes
 .fr
ATTACH;FMTTYPE=image/jpeg:https://www.rivesdelalaurence.fr/wp-content/uplo
 ads/2026/04/d412b734b6fa9872e351719e90ac3b3d_cine-harmo-e1776855323262.jpg
CATEGORIES:Cinéma,Concert
LOCATION:La Coupole\, 36\, chemin de Nice\, Saint-Loubès\, 33450\, France
GEO:44.915404;-0.424568
X-APPLE-STRUCTURED-LOCATION;VALUE=URI;X-ADDRESS=36\, chemin de Nice\, Saint
 -Loubès\, 33450\, France;X-APPLE-RADIUS=100;X-TITLE=La Coupole:geo:44.915
 404,-0.424568
END:VEVENT
BEGIN:VTIMEZONE
TZID:Europe/Paris
X-LIC-LOCATION:Europe/Paris
BEGIN:DAYLIGHT
DTSTART:20260329T030000
TZOFFSETFROM:+0100
TZOFFSETTO:+0200
TZNAME:CEST
END:DAYLIGHT
END:VTIMEZONE
END:VCALENDAR