BEGIN:VCALENDAR
VERSION:2.0
PRODID:-//wp-events-plugin.com//7.2.3//EN
TZID:Europe/Paris
X-WR-TIMEZONE:Europe/Paris
BEGIN:VEVENT
UID:205@rivesdelalaurence.fr
DTSTART;TZID=Europe/Paris:20240826T213000
DTEND;TZID=Europe/Paris:20240826T230000
DTSTAMP:20240726T080426Z
URL:https://www.rivesdelalaurence.fr/events/balade-nature/
SUMMARY:Balade Nature
DESCRIPTION:LUNDI 26 AOÛT - 21H30 À 23H\n\nGRATUIT - 15 places disponible
 s\n\nBalade découverte de la faune et de la flore au château de Reignac.
  Prévoir une tenue adaptée selon la météo\, des chaussures de marche\,
  un carnet et un stylo.\n\nPour les adultes et les enfants à partir de 12
  ans.\n\nInscriptions obligatoires à l’accueil de la Mairie de Saint-Lo
 ubès ou sur fauneflore@saint-loubes.fr\n\n&nbsp\;
ATTACH;FMTTYPE=image/jpeg:https://www.rivesdelalaurence.fr/wp-content/uplo
 ads/2024/07/Affiche-Balade-Nature.jpeg
CATEGORIES:Animations
LOCATION:Château de Reignac\, Rue du Truch\, Saint-Loubès\, 33450\, Franc
 e
GEO:44.899144;-0.425626
X-APPLE-STRUCTURED-LOCATION;VALUE=URI;X-ADDRESS=Rue du Truch\, Saint-Loubè
 s\, 33450\, France;X-APPLE-RADIUS=100;X-TITLE=Château de Reignac:geo:44.8
 99144,-0.425626
END:VEVENT
BEGIN:VTIMEZONE
TZID:Europe/Paris
X-LIC-LOCATION:Europe/Paris
BEGIN:DAYLIGHT
DTSTART:20240331T030000
TZOFFSETFROM:+0100
TZOFFSETTO:+0200
TZNAME:CEST
END:DAYLIGHT
END:VTIMEZONE
END:VCALENDAR