BEGIN:VCALENDAR
VERSION:2.0
PRODID:-//wp-events-plugin.com//7.2.3//EN
TZID:Europe/Paris
X-WR-TIMEZONE:Europe/Paris
BEGIN:VEVENT
UID:682@rivesdelalaurence.fr
DTSTART;TZID=Europe/Paris:20260425T140000
DTEND;TZID=Europe/Paris:20260425T140000
DTSTAMP:20260422T140326Z
URL:https://www.rivesdelalaurence.fr/events/audition-des-eleves-de-lecole-
 de-musique/
SUMMARY:Audition des élèves de l’école de musique
DESCRIPTION:L'École Municipale de Musique d'Yvrac vous invite à découvri
 r le talent de ses élèves lors de deux journées de concerts.\n\nSamedi 
 25 avril 2025\n\n 	14h00 – Église d'Yvrac : Harpe\, Éveil musical (pro
 fesseur Maryline) et Guitare (professeur Éric).\n\nSamedi 30 mai 2025\n\n
  	14h00 – Église d'Yvrac : Guitare\, Piano et Chant (professeurs Bertra
 nd et Pauline).\n 	15h30 – Salle d'animation de la médiathèque : Batte
 rie (professeur Étienne).\n\nRenseignements :\nTéléphone : 05 56 23 78 
 97 ou 06 03 11 39 09\nmusique@yvrac.fr
ATTACH;FMTTYPE=image/jpeg:https://www.rivesdelalaurence.fr/wp-content/uplo
 ads/2026/04/cf780b1876dbaa4efb24016fd02eac40_audition-d.jpg
CATEGORIES:Concert
LOCATION:église d'Yvrac\, Place de l'église\, Yvrac\, 33370\, France
GEO:44.880493;-0.462318
X-APPLE-STRUCTURED-LOCATION;VALUE=URI;X-ADDRESS=Place de l'église\, Yvrac\
 , 33370\, France;X-APPLE-RADIUS=100;X-TITLE=église d'Yvrac:geo:44.880493,
 -0.462318
END:VEVENT
BEGIN:VTIMEZONE
TZID:Europe/Paris
X-LIC-LOCATION:Europe/Paris
BEGIN:DAYLIGHT
DTSTART:20260329T030000
TZOFFSETFROM:+0100
TZOFFSETTO:+0200
TZNAME:CEST
END:DAYLIGHT
END:VTIMEZONE
END:VCALENDAR